BEGIN:VCALENDAR
VERSION:2.0
PRODID:-//IQ-S Energy Efficiency Committee (LIEEAC) - ECPv6.15.18//NONSGML v1.0//EN
CALSCALE:GREGORIAN
METHOD:PUBLISH
X-ORIGINAL-URL:https://www.iqadvisorycommittee.com
X-WR-CALDESC:Events for IQ-S Energy Efficiency Committee (LIEEAC)
REFRESH-INTERVAL;VALUE=DURATION:PT1H
X-Robots-Tag:noindex
X-PUBLISHED-TTL:PT1H
BEGIN:VTIMEZONE
TZID:America/Chicago
BEGIN:DAYLIGHT
TZOFFSETFROM:-0600
TZOFFSETTO:-0500
TZNAME:CDT
DTSTART:20220313T080000
END:DAYLIGHT
BEGIN:STANDARD
TZOFFSETFROM:-0500
TZOFFSETTO:-0600
TZNAME:CST
DTSTART:20221106T070000
END:STANDARD
BEGIN:DAYLIGHT
TZOFFSETFROM:-0600
TZOFFSETTO:-0500
TZNAME:CDT
DTSTART:20230312T080000
END:DAYLIGHT
BEGIN:STANDARD
TZOFFSETFROM:-0500
TZOFFSETTO:-0600
TZNAME:CST
DTSTART:20231105T070000
END:STANDARD
BEGIN:DAYLIGHT
TZOFFSETFROM:-0600
TZOFFSETTO:-0500
TZNAME:CDT
DTSTART:20240310T080000
END:DAYLIGHT
BEGIN:STANDARD
TZOFFSETFROM:-0500
TZOFFSETTO:-0600
TZNAME:CST
DTSTART:20241103T070000
END:STANDARD
END:VTIMEZONE
BEGIN:VEVENT
DTSTART;TZID=America/Chicago:20230412T150000
DTEND;TZID=America/Chicago:20230412T170000
DTSTAMP:20260425T185157
CREATED:20230302T192320Z
LAST-MODIFIED:20230523T231615Z
UID:501-1681311600-1681318800@www.iqadvisorycommittee.com
SUMMARY:IQ-S Q1 Committee Meeting
DESCRIPTION:This meeting will be held Wednesday\, April 12 (3:00 pm – 5:00 pm). \nPost Meeting Notes: IQ-S Q1 Committee Meeting Notes\n\nAgenda: IQ-S Q1 Meeting Agenda\n\nAmeren IL Tools and Resources for EE and Bill Assistance Resources\n\nEnergy Savings Opportunities for Eligible Customers\nOutreach Resources for CBOs/CAAs – Toolkit\nGeneral Energy Education Material\n\n\nMember Survey: Working Groups\nEducation and Outreach Grant Awardees\nDiscussion: 2023 Leadership Team Selection Process\nLegislation to Extend Energy Affordability/Reduce Energy Burden\nOverview of Energy Burden/Energy Affordability\n\nSB 1842\nHB 2172\n\n\n\nTeleconference Information\nMicrosoft Teams meeting\n\nJoin on your computer\, mobile app or room device\nClick here to join the meeting \n\nMeeting ID: 235 591 801 960\nPasscode: cxLRr9\n\nOr call in (audio only)\n+1 929-352-2667\,\,271877500#   United States\, New York City\n\nPhone Conference ID: 271 877 500# \nMeeting Materials\nAll meeting materials will be posted here as they become available. \nPost Meeting Notes \nIQ-S Q1 Meeting Agenda \nPresentation: Crisis in Affordability of Light and Heat – Naomi Davis\, Blacks in Green & Karen Lusson\, National Consumer Law Center \n\nLinks to Ameren IL Tool to help customers identify Energy Efficiency and Bill Assistance Programs\n\nEnergy Saving Opportunities for Eligible Residential Customers – Ameren Illinois Energy Efficiency Program (amerenillinoissavings.com)\n\n\n\n\nLink to Outreach Resources for CBOs/CAAs: https//Amerenillinoissavings.com/partner\nLink to IL Solar for All website (Residents): https://www.illinoissfa.com/for-il-residents/\nLink to Legislation/Supporting Material\n\nHB 2172\nIllinois General Assembly – Bill Status for HB2172\n\n\n\n\nSupporting Material for HB2172\n\nPASS PURR!!!\nPeoples Utility Rate Relief Act PURR House Bill 2172 Senate Bill 1775\nAPS Black in Green Partner Flyers\nHB 2172 3P Summary
URL:https://www.iqadvisorycommittee.com/event/iq-s-q1-committee-meeting/
LOCATION:Virtual (Microsoft Teams)
CATEGORIES:IQ Committee Meeting
END:VEVENT
END:VCALENDAR